BEGIN:VCALENDAR
VERSION:2.0
PRODID:-//Aagje - ECPv6.15.20//NONSGML v1.0//EN
CALSCALE:GREGORIAN
METHOD:PUBLISH
X-ORIGINAL-URL:https://aagje.nu
X-WR-CALDESC:Evenementen voor Aagje
REFRESH-INTERVAL;VALUE=DURATION:PT1H
X-Robots-Tag:noindex
X-PUBLISHED-TTL:PT1H
BEGIN:VTIMEZONE
TZID:Europe/Amsterdam
BEGIN:DAYLIGHT
TZOFFSETFROM:+0100
TZOFFSETTO:+0200
TZNAME:CEST
DTSTART:20220327T010000
END:DAYLIGHT
BEGIN:STANDARD
TZOFFSETFROM:+0200
TZOFFSETTO:+0100
TZNAME:CET
DTSTART:20221030T010000
END:STANDARD
BEGIN:DAYLIGHT
TZOFFSETFROM:+0100
TZOFFSETTO:+0200
TZNAME:CEST
DTSTART:20230326T010000
END:DAYLIGHT
BEGIN:STANDARD
TZOFFSETFROM:+0200
TZOFFSETTO:+0100
TZNAME:CET
DTSTART:20231029T010000
END:STANDARD
BEGIN:DAYLIGHT
TZOFFSETFROM:+0100
TZOFFSETTO:+0200
TZNAME:CEST
DTSTART:20240331T010000
END:DAYLIGHT
BEGIN:STANDARD
TZOFFSETFROM:+0200
TZOFFSETTO:+0100
TZNAME:CET
DTSTART:20241027T010000
END:STANDARD
BEGIN:DAYLIGHT
TZOFFSETFROM:+0100
TZOFFSETTO:+0200
TZNAME:CEST
DTSTART:20250330T010000
END:DAYLIGHT
BEGIN:STANDARD
TZOFFSETFROM:+0200
TZOFFSETTO:+0100
TZNAME:CET
DTSTART:20251026T010000
END:STANDARD
END:VTIMEZONE
BEGIN:VEVENT
DTSTART;TZID=Europe/Amsterdam:20241024T200000
DTEND;TZID=Europe/Amsterdam:20241024T213000
DTSTAMP:20260423T201517
CREATED:20240926T135407Z
LAST-MODIFIED:20240926T135848Z
UID:8223-1729800000-1729805400@aagje.nu
SUMMARY:Impact maken door anders te kijken
DESCRIPTION:Léon Polman (29) is de oprichter van Green Side. Zij maken notitieboeken van enkelzijdig bedrukt papier dat anders wordt weggegooid. Dit papier wordt ingezameld bij basisscholen en met de hand ingebonden op sociale werkplaatsen. En het leuke? Ze worden ook verkocht in de verpakkingsvrije en zero waste winkel Zonder Meer! \nWat kun je verwachten\nLéon Polman deelt het inspirerende verhaal hoe hij de sociale onderneming Green Side heeft opgericht\, simpelweg door anders te kijken naar zijn eigen papier. Vervolgens kijken we samen welk ‘afval’ we in het dagelijks leven nog een tweede kans kunnen geven. \nMeld je hier aan voor deze inspirerende lezing. \n 
URL:https://aagje.nu/event/impact-maken-door-anders-te-kijken/
LOCATION:Zonder Meer\, Prins Hendrikstraat 11 in Bodegraven\, Prins Hendrikstraat 11\, Bodegraven\, 2411 CR\, Nederland
CATEGORIES:Betekenisvol ondernemen
ORGANIZER;CN="Zonder Meer":MAILTO:trudie@aagje.nu
END:VEVENT
BEGIN:VEVENT
DTSTART;TZID=Europe/Amsterdam:20230608T160000
DTEND;TZID=Europe/Amsterdam:20230608T230000
DTSTAMP:20260423T201517
CREATED:20230314T105555Z
LAST-MODIFIED:20230314T105910Z
UID:7685-1686240000-1686265200@aagje.nu
SUMMARY:MeetUP: Grip op Betekenisvol Ondernemen
DESCRIPTION:Inzichtelijk maken van je doelen\nOf je nu direct de handen uit de mouwen steekt of eerst graag de Missie & Visie op papier zet\, aan de boekhouding valt niet te ontkomen. Het is als ondernemer heel gebruikelijk om inkomsten en uitgaven op een rij te zetten\, omzetdoelen te stellen en checken of deze worden gehaald. Minder gebruikelijk is om je missie om te zetten in cijfers. Hoe weet je dan of je op de goede weg bent? \nTrudie Bukman-Schrier heeft een financiële achtergrond en is gek op cijfers. Cijfers gaan pas leven als deze betekenis hebben. Zij kwam tot de ontdekking dat dat ook andersom werkt. Deze middag neemt ze je mee hoe je ‘betekenisvol’ ondernemen kan omzetten in cijfers. Zodat je niet alleen kunt zien of je financieel op de goede weg bent\, maar ook met je missie. \nIeder kwartaal organiseert Verschil in Zaken een netwerkbijeenkomst. Tijdens de Meet-Up staan kennisdeling en uitwisseling van ervaringen en contacten centraal. Maak kennis met een waardevol netwerk\, leer van de presentatie en leg nuttige contacten. \nAangesloten Members en Verschilmakers Pro hebben vrije toegang.
URL:https://aagje.nu/event/meetup-grip-op-betekenisvol-ondernemen/
LOCATION:Gouda e.o.
CATEGORIES:Betekenisvol ondernemen
ATTACH;FMTTYPE=image/png:https://aagje.nu/wp-content/uploads/2022/04/Significance.jpg
ORGANIZER;CN="Aagje Financial Consultancy & Control":MAILTO:info@aagje.nu
END:VEVENT
END:VCALENDAR